BEGIN:VCALENDAR
VERSION:2.0
PRODID:-//The Mezz - ECPv4.6.2//NONSGML v1.0//EN
CALSCALE:GREGORIAN
METHOD:PUBLISH
X-WR-CALNAME:The Mezz
X-ORIGINAL-URL:http://www.mezz.ie
X-WR-CALDESC:Events for The Mezz
BEGIN:VEVENT
DTSTART;TZID=UTC+0:20171104T210000
DTEND;TZID=UTC+0:20171105T023000
DTSTAMP:20171107T185512
CREATED:20171103T144841Z
LAST-MODIFIED:20171103T144853Z
UID:567-1509829200-1509849000@www.mezz.ie
SUMMARY:20 Seconds of Panic
DESCRIPTION:20 Seconds of Panic play the famous Mezz stage on Saturday \n
URL:http://www.mezz.ie/event/20-seconds-panic-2/
LOCATION:23-24 Eustace St\, Temple Bar\, Dublin 2\, Ireland
ATTACH;FMTTYPE=image/png:http://www.mezz.ie/wp-content/uploads/2017/10/11258480_854958814574482_7015208088128755072_n.png
END:VEVENT
END:VCALENDAR