BEGIN:VCALENDAR
VERSION:2.0
PRODID:-//The Mezz - ECPv4.6.2//NONSGML v1.0//EN
CALSCALE:GREGORIAN
METHOD:PUBLISH
X-WR-CALNAME:The Mezz
X-ORIGINAL-URL:http://www.mezz.ie
X-WR-CALDESC:Events for The Mezz
BEGIN:VEVENT
DTSTART;TZID=UTC+0:20171111T210000
DTEND;TZID=UTC+0:20171112T023000
DTSTAMP:20171107T185717
CREATED:20171103T144022Z
LAST-MODIFIED:20171103T145401Z
UID:561-1510434000-1510453800@www.mezz.ie
SUMMARY:California King
DESCRIPTION:California King play the famous Mezz stage on Saturday night \n
URL:http://www.mezz.ie/event/california-king/
LOCATION:23-24 Eustace St\, Temple Bar\, Dublin 2\, Ireland
ATTACH;FMTTYPE=image/jpeg:http://www.mezz.ie/wp-content/uploads/2017/11/14188689_291881234521775_5398266308445950241_o.jpg
END:VEVENT
END:VCALENDAR