BEGIN:VCALENDAR
VERSION:2.0
PRODID:-//The Mezz - ECPv4.6.2//NONSGML v1.0//EN
CALSCALE:GREGORIAN
METHOD:PUBLISH
X-WR-CALNAME:The Mezz
X-ORIGINAL-URL:http://www.mezz.ie
X-WR-CALDESC:Events for The Mezz
BEGIN:VEVENT
DTSTART;TZID=UTC+0:20171106T210000
DTEND;TZID=UTC+0:20171107T023000
DTSTAMP:20171107T185535
CREATED:20171103T141454Z
LAST-MODIFIED:20171103T141507Z
UID:547-1510002000-1510021800@www.mezz.ie
SUMMARY:The Address
DESCRIPTION:The Address take the famous Mezz stage on Monday night \n
URL:http://www.mezz.ie/event/the-address/
LOCATION:23-24 Eustace St\, Temple Bar\, Dublin 2\, Ireland
ATTACH;FMTTYPE=image/jpeg:http://www.mezz.ie/wp-content/uploads/2017/11/18491726_1909853789288150_2332764198418638701_o.jpg
END:VEVENT
END:VCALENDAR