BEGIN:VCALENDAR
VERSION:2.0
PRODID:-//The Mezz - ECPv4.6.2//NONSGML v1.0//EN
CALSCALE:GREGORIAN
METHOD:PUBLISH
X-WR-CALNAME:The Mezz
X-ORIGINAL-URL:http://www.mezz.ie
X-WR-CALDESC:Events for The Mezz
BEGIN:VEVENT
DTSTART;TZID=UTC+0:20171110T210000
DTEND;TZID=UTC+0:20171111T023000
DTSTAMP:20171107T185652
CREATED:20171103T143752Z
LAST-MODIFIED:20171103T145320Z
UID:559-1510347600-1510367400@www.mezz.ie
SUMMARY:The Group
DESCRIPTION:The Group play the famous Mezz stage on Friday night \n
URL:http://www.mezz.ie/event/the-group-2/
LOCATION:23-24 Eustace St\, Temple Bar\, Dublin 2\, Ireland
ATTACH;FMTTYPE=image/jpeg:http://www.mezz.ie/wp-content/uploads/2017/10/12249820_10153670213032332_6306387943269515630_n.jpg
END:VEVENT
END:VCALENDAR